BEGIN:VCALENDAR
VERSION:2.0
PRODID:-//jEvents 2.0 for Joomla//EN
CALSCALE:GREGORIAN
METHOD:PUBLISH
BEGIN:VEVENT
UID:40bfaf777cf9ae39560290a1f96b5577
CATEGORIES:Veranstaltungen
CREATED:20250108T145030
SUMMARY:schriftliche RDP Englisch
DESCRIPTION:
DTSTAMP:20260425T152507
DTSTART:20250509T060000
DTEND:20250509T120000
SEQUENCE:0
TRANSP:OPAQUE
END:VEVENT
END:VCALENDAR