BEGIN:VCALENDAR
VERSION:2.0
PRODID:-//jEvents 2.0 for Joomla//EN
CALSCALE:GREGORIAN
METHOD:PUBLISH
BEGIN:VEVENT
UID:4ef8525b4b69fe17965b7f6aeb247313
CATEGORIES:Veranstaltungen
CREATED:20250108T144957
SUMMARY:schriftliche RDP Mathematik
DESCRIPTION:
DTSTAMP:20260425T153950
DTSTART:20250508T060000
DTEND:20250508T120000
SEQUENCE:0
TRANSP:OPAQUE
END:VEVENT
END:VCALENDAR