BEGIN:VCALENDAR
VERSION:2.0
PRODID:-//jEvents 2.0 for Joomla//EN
CALSCALE:GREGORIAN
METHOD:PUBLISH
BEGIN:VEVENT
UID:85405c5a508f7af2c01bbea740f043f2
CATEGORIES:Veranstaltungen
CREATED:20250108T144922
SUMMARY:schriftliche RDP Deutsch
DESCRIPTION:
DTSTAMP:20260425T154608
DTSTART:20250507T060000
DTEND:20250507T120000
SEQUENCE:0
TRANSP:OPAQUE
END:VEVENT
END:VCALENDAR