BEGIN:VCALENDAR
VERSION:2.0
PRODID:-//jEvents 2.0 for Joomla//EN
CALSCALE:GREGORIAN
METHOD:PUBLISH
BEGIN:VEVENT
UID:b489ef51ccd50cc7d5204d4e1f36e1e8
CATEGORIES:Veranstaltungen
CREATED:20250108T144852
SUMMARY:schriftliche RDP BFK/ABR/SWP
DESCRIPTION:
DTSTAMP:20260425T152634
DTSTART:20250505T060000
DTEND:20250505T120000
SEQUENCE:0
TRANSP:OPAQUE
END:VEVENT
END:VCALENDAR