BEGIN:VCALENDAR
VERSION:2.0
PRODID:-//jEvents 2.0 for Joomla//EN
CALSCALE:GREGORIAN
METHOD:PUBLISH
BEGIN:VEVENT
UID:4cb352289a30942e833d592524a7f13a
CATEGORIES:Veranstaltungen
CREATED:20250108T144758
SUMMARY:letzter Schultag 5a, 5w, 5h
DESCRIPTION:
DTSTAMP:20260425T154338
DTSTART:20250502T060000
DTEND:20250502T150000
SEQUENCE:0
TRANSP:OPAQUE
END:VEVENT
END:VCALENDAR