BEGIN:VCALENDAR
VERSION:2.0
PRODID:-//jEvents 2.0 for Joomla//EN
CALSCALE:GREGORIAN
METHOD:PUBLISH
BEGIN:VEVENT
UID:08a9542cf899add27679d84cfac820d6
CATEGORIES:Veranstaltungen
CREATED:20250108T144726
SUMMARY:Wiederholungsprüfungen 5a, 5w, 5h
DESCRIPTION:
DTSTAMP:20260425T140653
DTSTART:20250428T060000
DTEND:20250428T120000
SEQUENCE:0
TRANSP:OPAQUE
END:VEVENT
END:VCALENDAR