BEGIN:VCALENDAR
VERSION:2.0
PRODID:-//jEvents 2.0 for Joomla//EN
CALSCALE:GREGORIAN
METHOD:PUBLISH
BEGIN:VEVENT
UID:578a1a603432f546670ee21a2f34fb72
CATEGORIES:Veranstaltungen
CREATED:20250108T144641
SUMMARY:Coachingtage 5a, 5w, 5h
DESCRIPTION:
DTSTAMP:20260425T140448
DTSTART:20250424T060000
DTEND:20250430T150000
SEQUENCE:0
TRANSP:OPAQUE
END:VEVENT
END:VCALENDAR