BEGIN:VCALENDAR
VERSION:2.0
PRODID:-//jEvents 2.0 for Joomla//EN
CALSCALE:GREGORIAN
METHOD:PUBLISH
BEGIN:VEVENT
UID:8e65024d4a49c2f6e39be2416648bbd5
CATEGORIES:Veranstaltungen
CREATED:20250108T144544
SUMMARY:Klassenkonferenz 5w
DESCRIPTION:
DTSTAMP:20260425T140511
DTSTART:20250423T141500
DTEND:20250423T150000
SEQUENCE:0
TRANSP:OPAQUE
END:VEVENT
END:VCALENDAR