BEGIN:VCALENDAR
VERSION:2.0
PRODID:-//jEvents 2.0 for Joomla//EN
CALSCALE:GREGORIAN
METHOD:PUBLISH
BEGIN:VEVENT
UID:f8c741d40c12e7c536ac6fbe97ab86e7
CATEGORIES:Veranstaltungen
CREATED:20250108T144517
SUMMARY:Klassenkonferenz 5a
DESCRIPTION:
DTSTAMP:20260425T140648
DTSTART:20250423T131500
DTEND:20250423T140000
SEQUENCE:0
TRANSP:OPAQUE
END:VEVENT
END:VCALENDAR