BEGIN:VCALENDAR
VERSION:2.0
PRODID:-//jEvents 2.0 for Joomla//EN
CALSCALE:GREGORIAN
METHOD:PUBLISH
BEGIN:VEVENT
UID:2469ac1a1ac42e55d0163fd940012f76
CATEGORIES:Veranstaltungen
CREATED:20250108T144446
SUMMARY:Klassenkonferenz 5h
DESCRIPTION:
DTSTAMP:20260425T152633
DTSTART:20250423T121500
DTEND:20250423T130000
SEQUENCE:0
TRANSP:OPAQUE
END:VEVENT
END:VCALENDAR