BEGIN:VCALENDAR
VERSION:2.0
PRODID:-//jEvents 2.0 for Joomla//EN
CALSCALE:GREGORIAN
METHOD:PUBLISH
BEGIN:VEVENT
UID:0cb059cd56259af304bf62c805e5e13d
CATEGORIES:Veranstaltungen
CREATED:20250108T144409
SUMMARY:Noteneintrag 5a,5w,5h
DESCRIPTION:
DTSTAMP:20260425T152644
DTSTART:20250423T060000
DTEND:20250423T100000
SEQUENCE:0
TRANSP:OPAQUE
END:VEVENT
END:VCALENDAR