BEGIN:VCALENDAR
VERSION:2.0
PRODID:-//jEvents 2.0 for Joomla//EN
CALSCALE:GREGORIAN
METHOD:PUBLISH
BEGIN:VEVENT
UID:127f4fdc3e36e57263e5e2fd1c7911d3
CATEGORIES:Veranstaltungen
CREATED:20250108T144338
SUMMARY:Notenschluss 5a,5w,5h
DESCRIPTION:
DTSTAMP:20260425T135510
DTSTART:20250423T060000
DTEND:20250423T100000
SEQUENCE:0
TRANSP:OPAQUE
END:VEVENT
END:VCALENDAR