BEGIN:VCALENDAR
VERSION:2.0
PRODID:-//jEvents 2.0 for Joomla//EN
CALSCALE:GREGORIAN
METHOD:PUBLISH
BEGIN:VEVENT
UID:76e2ad4876452152a0ec2f8df4b36c42
CATEGORIES:Veranstaltungen
CREATED:20250108T144300
SUMMARY:Präsentationen Diplomarbeiten 5.HLW
DESCRIPTION:
DTSTAMP:20260425T153806
DTSTART:20250313T070000
DTEND:20250313T160000
SEQUENCE:0
TRANSP:OPAQUE
END:VEVENT
END:VCALENDAR