BEGIN:VCALENDAR
VERSION:2.0
PRODID:-//jEvents 2.0 for Joomla//EN
CALSCALE:GREGORIAN
METHOD:PUBLISH
BEGIN:VEVENT
UID:39a672670e2aa6fc2f8e566964391cd6
CATEGORIES:Veranstaltungen
CREATED:20250108T144226
SUMMARY:Präsentationen Diplomarbeiten 5.HAK
DESCRIPTION:
DTSTAMP:20260425T154430
DTSTART:20250312T070000
DTEND:20250312T160000
SEQUENCE:0
TRANSP:OPAQUE
END:VEVENT
END:VCALENDAR