BEGIN:VCALENDAR
VERSION:2.0
PRODID:-//jEvents 2.0 for Joomla//EN
CALSCALE:GREGORIAN
METHOD:PUBLISH
BEGIN:VEVENT
UID:e03f2060b72e12ce42370278357f68c2
CATEGORIES:Veranstaltungen
CREATED:20250108T144155
SUMMARY:Präsentationen Diplomarbeiten 5.HTL
DESCRIPTION:
DTSTAMP:20260425T152828
DTSTART:20250311T070000
DTEND:20250311T160000
SEQUENCE:0
TRANSP:OPAQUE
END:VEVENT
END:VCALENDAR