BEGIN:VCALENDAR
VERSION:2.0
PRODID:-//jEvents 2.0 for Joomla//EN
CALSCALE:GREGORIAN
METHOD:PUBLISH
BEGIN:VEVENT
UID:24ef81037d127ce27b3f5113c9059725
CATEGORIES:Veranstaltungen
CREATED:20250108T111842
SUMMARY:Aufnahmeprüfungen für das Schuljahr 2025/26
DESCRIPTION:
DTSTAMP:20260425T185308
DTSTART:20250702T060000
DTEND:20250702T150000
SEQUENCE:0
TRANSP:OPAQUE
END:VEVENT
END:VCALENDAR