BEGIN:VCALENDAR
VERSION:2.0
PRODID:-//jEvents 2.0 for Joomla//EN
CALSCALE:GREGORIAN
METHOD:PUBLISH
BEGIN:VEVENT
UID:2053c0e5053ec5b1ace540e90eea2071
CATEGORIES:Veranstaltungen
CREATED:20250108T111805
SUMMARY:Sommersportwoche nach Döbriach Millstättersee für alle 2.Klassen
DESCRIPTION:
DTSTAMP:20260425T171146
DTSTART:20250629T060000
DTEND:20250703T150000
SEQUENCE:0
TRANSP:OPAQUE
END:VEVENT
END:VCALENDAR