BEGIN:VCALENDAR
VERSION:2.0
PRODID:-//jEvents 2.0 for Joomla//EN
CALSCALE:GREGORIAN
METHOD:PUBLISH
BEGIN:VEVENT
UID:8fd3259594a8092b4d5c2129b41ab08d
CATEGORIES:Veranstaltungen
CREATED:20250108T111649
SUMMARY:Klassenkonferenz 2.Semester
DESCRIPTION:
DTSTAMP:20260425T171240
DTSTART:20250627T103000
DTEND:20250627T150000
SEQUENCE:0
TRANSP:OPAQUE
END:VEVENT
END:VCALENDAR