BEGIN:VCALENDAR
VERSION:2.0
PRODID:-//jEvents 2.0 for Joomla//EN
CALSCALE:GREGORIAN
METHOD:PUBLISH
BEGIN:VEVENT
UID:937be18f79bb0462e1e81fd41f212663
CATEGORIES:Veranstaltungen
CREATED:20250108T111619
SUMMARY:Noteneintrag 2.Semester
DESCRIPTION:
DTSTAMP:20260425T171112
DTSTART:20250626T060000
DTEND:20250626T160000
SEQUENCE:0
TRANSP:OPAQUE
END:VEVENT
END:VCALENDAR