BEGIN:VCALENDAR
VERSION:2.0
PRODID:-//jEvents 2.0 for Joomla//EN
CALSCALE:GREGORIAN
METHOD:PUBLISH
BEGIN:VEVENT
UID:a0bfae9bce76b7f504a5ede1d7059729
CATEGORIES:Veranstaltungen
CREATED:20250108T111552
SUMMARY:Notenschluss 2.Semester
DESCRIPTION:
DTSTAMP:20260425T171113
DTSTART:20250626T060000
DTEND:20250626T120000
SEQUENCE:0
TRANSP:OPAQUE
END:VEVENT
END:VCALENDAR