BEGIN:VCALENDAR
VERSION:2.0
PRODID:-//jEvents 2.0 for Joomla//EN
CALSCALE:GREGORIAN
METHOD:PUBLISH
BEGIN:VEVENT
UID:5a2f9d1eda5402124f096dc44ee80709
CATEGORIES:Veranstaltungen
CREATED:20250108T111433
SUMMARY:Sprachreise San Remo 4.Klassen
DESCRIPTION:
DTSTAMP:20260425T171502
DTSTART:20250601T060000
DTEND:20250606T150000
SEQUENCE:0
TRANSP:OPAQUE
END:VEVENT
END:VCALENDAR