BEGIN:VCALENDAR
VERSION:2.0
PRODID:-//jEvents 2.0 for Joomla//EN
CALSCALE:GREGORIAN
METHOD:PUBLISH
BEGIN:VEVENT
UID:7fa40d6f3b2f1610462140594151342c
CATEGORIES:Veranstaltungen
CREATED:20250108T111137
SUMMARY:Exkursion der 4.Klassen zur KZ-Gedenkstätte nach Dachau
DESCRIPTION:
DTSTAMP:20260425T154123
DTSTART:20250422T060000
DTEND:20250422T150000
SEQUENCE:0
TRANSP:OPAQUE
END:VEVENT
END:VCALENDAR