BEGIN:VCALENDAR
VERSION:2.0
PRODID:-//jEvents 2.0 for Joomla//EN
CALSCALE:GREGORIAN
METHOD:PUBLISH
BEGIN:VEVENT
UID:c3eaaf9e10f59dec5ac5e61434813141
CATEGORIES:Veranstaltungen
CREATED:20250108T111049
SUMMARY:SGA-Sitzung HLW
DESCRIPTION:
DTSTAMP:20260425T135053
DTSTART:20250408T120000
DTEND:20250408T130000
SEQUENCE:0
TRANSP:OPAQUE
END:VEVENT
END:VCALENDAR