BEGIN:VCALENDAR
VERSION:2.0
PRODID:-//jEvents 2.0 for Joomla//EN
CALSCALE:GREGORIAN
METHOD:PUBLISH
BEGIN:VEVENT
UID:aa2a14137a9626e1bcb9fce6a79b2f66
CATEGORIES:Veranstaltungen
CREATED:20250108T110958
SUMMARY:SGA-Sitzung HAK
DESCRIPTION:
DTSTAMP:20260425T133936
DTSTART:20250407T120000
DTEND:20250407T130000
SEQUENCE:0
TRANSP:OPAQUE
END:VEVENT
END:VCALENDAR