BEGIN:VCALENDAR
VERSION:2.0
PRODID:-//jEvents 2.0 for Joomla//EN
CALSCALE:GREGORIAN
METHOD:PUBLISH
BEGIN:VEVENT
UID:b12e16d5bced180b6c382dbe6f5d0283
CATEGORIES:Veranstaltungen
CREATED:20250108T110847
SUMMARY:Nacht der Projekte
DESCRIPTION:
DTSTAMP:20260425T140511
DTSTART:20250403T150000
DTEND:20250403T190000
SEQUENCE:0
TRANSP:OPAQUE
END:VEVENT
END:VCALENDAR