BEGIN:VCALENDAR
VERSION:2.0
PRODID:-//jEvents 2.0 for Joomla//EN
CALSCALE:GREGORIAN
METHOD:PUBLISH
BEGIN:VEVENT
UID:c0e6385440474d9e7112f6318e9c2f75
CATEGORIES:Veranstaltungen
CREATED:20250108T110512
SUMMARY:Notenkonferenz 1.Semester 
DESCRIPTION:
DTSTAMP:20260425T171725
DTSTART:20250204T130000
DTEND:20250204T160000
SEQUENCE:0
TRANSP:OPAQUE
END:VEVENT
END:VCALENDAR