BEGIN:VCALENDAR
VERSION:2.0
PRODID:-//jEvents 2.0 for Joomla//EN
CALSCALE:GREGORIAN
METHOD:PUBLISH
BEGIN:VEVENT
UID:73b528aff1ea9a94deecdc1455a6b815
CATEGORIES:Veranstaltungen
CREATED:20250108T110441
SUMMARY:Noteneintrag 1.Semester
DESCRIPTION:
DTSTAMP:20260425T171502
DTSTART:20250203T070000
DTEND:20250203T170000
SEQUENCE:0
TRANSP:OPAQUE
END:VEVENT
END:VCALENDAR