BEGIN:VCALENDAR
VERSION:2.0
PRODID:-//jEvents 2.0 for Joomla//EN
CALSCALE:GREGORIAN
METHOD:PUBLISH
BEGIN:VEVENT
UID:fa77e0295996341e3cd3a248cbfde93d
CATEGORIES:Veranstaltungen
CREATED:20250108T110416
SUMMARY:Notenschluss 1. Semester
DESCRIPTION:
DTSTAMP:20260425T171613
DTSTART:20250203T070000
DTEND:20250203T130000
SEQUENCE:0
TRANSP:OPAQUE
END:VEVENT
END:VCALENDAR