BEGIN:VCALENDAR
VERSION:2.0
PRODID:-//jEvents 2.0 for Joomla//EN
CALSCALE:GREGORIAN
METHOD:PUBLISH
BEGIN:VEVENT
UID:01154206f7a9fbc2c03eb3006e559176
CATEGORIES:Veranstaltungen
CREATED:20250108T105651
SUMMARY:4. und 5. Klassen der HTL Exkursion zu Deckel Maho Pfronten
DESCRIPTION:
DTSTAMP:20260425T171613
DTSTART:20250217T070000
DTEND:20250217T130000
SEQUENCE:0
TRANSP:OPAQUE
END:VEVENT
END:VCALENDAR