BEGIN:VCALENDAR
VERSION:2.0
PRODID:-//jEvents 2.0 for Joomla//EN
CALSCALE:GREGORIAN
METHOD:PUBLISH
BEGIN:VEVENT
UID:d1783686cd11cbd17a82308a7ef53256
CATEGORIES:Veranstaltungen
CREATED:20250108T105024
SUMMARY:3. pädagogische Konferenz
DESCRIPTION:
DTSTAMP:20260425T120647
DTSTART:20250122T150000
DTEND:20250122T170000
SEQUENCE:0
TRANSP:OPAQUE
END:VEVENT
END:VCALENDAR