BEGIN:VCALENDAR
VERSION:2.0
PRODID:-//jEvents 2.0 for Joomla//EN
CALSCALE:GREGORIAN
METHOD:PUBLISH
BEGIN:VEVENT
UID:4228a106d7adac452c4b6ab6367e7649
CATEGORIES:Veranstaltungen
CREATED:20250108T104919
SUMMARY:Klasse 4a und 5w Exkursion ins Landesgericht Innsbruck und in die Strafvollzugsanstalt Völs
DESCRIPTION:
DTSTAMP:20260425T121111
DTSTART:20250121T070000
DTEND:20250121T160000
SEQUENCE:0
TRANSP:OPAQUE
END:VEVENT
END:VCALENDAR