BEGIN:VCALENDAR
VERSION:2.0
PRODID:-//jEvents 2.0 for Joomla//EN
CALSCALE:GREGORIAN
METHOD:PUBLISH
BEGIN:VEVENT
UID:f460c7282e5dfcc1c0460778ca1eddf9
CATEGORIES:Veranstaltungen
CREATED:20250108T104613
SUMMARY:Klasse 4a und 5w Exkursion in die Arbeiterkammer Reutte
DESCRIPTION:
DTSTAMP:20260425T120759
DTSTART:20250116T070000
DTEND:20250116T094000
SEQUENCE:0
TRANSP:OPAQUE
END:VEVENT
END:VCALENDAR