BEGIN:VCALENDAR
VERSION:2.0
PRODID:-//jEvents 2.0 for Joomla//EN
CALSCALE:GREGORIAN
METHOD:PUBLISH
BEGIN:VEVENT
UID:ff053c76e523c00fe381753a59ddfb43
CATEGORIES:Veranstaltungen
CREATED:20241203T095739
SUMMARY:2. pädgogische Konferenz
DESCRIPTION:
DTSTAMP:20260425T153726
DTSTART:20241203T150000
DTEND:20241203T170000
SEQUENCE:0
TRANSP:OPAQUE
END:VEVENT
END:VCALENDAR