BEGIN:VCALENDAR
VERSION:2.0
PRODID:-//jEvents 2.0 for Joomla//EN
CALSCALE:GREGORIAN
METHOD:PUBLISH
BEGIN:VEVENT
UID:a5d9c82d9d3266378b2b2272bdbf14ee
CATEGORIES:Veranstaltungen
CREATED:20241114T154204
SUMMARY:Adventszauber - Weihnachtsbasar in der HLW
DESCRIPTION:
DTSTAMP:20260425T171613
DTSTART:20241128T153000
DTEND:20241128T183000
SEQUENCE:0
TRANSP:OPAQUE
END:VEVENT
END:VCALENDAR