BEGIN:VCALENDAR
VERSION:2.0
PRODID:-//jEvents 2.0 for Joomla//EN
CALSCALE:GREGORIAN
METHOD:PUBLISH
BEGIN:VEVENT
UID:8275f702a512e70cd9688fefb22f8f96
CATEGORIES:Veranstaltungen
CREATED:20241104T143943
SUMMARY:Planspiel "Arbeit" Klassen 3wa und 3wb
DESCRIPTION:
DTSTAMP:20260425T171800
DTSTART:20241115T070000
DTEND:20241115T123000
SEQUENCE:0
TRANSP:OPAQUE
END:VEVENT
END:VCALENDAR