BEGIN:VCALENDAR
VERSION:2.0
PRODID:-//jEvents 2.0 for Joomla//EN
CALSCALE:GREGORIAN
METHOD:PUBLISH
BEGIN:VEVENT
UID:09f43c5bda0a0bc0f94ff34a742f5081
CATEGORIES:Veranstaltungen
CREATED:20241104T143140
SUMMARY:4. und 5.Klassen HTL besuchen die SPS-Messe in Nürnberg
DESCRIPTION:
DTSTAMP:20260425T171801
DTSTART:20241112T060000
DTEND:20241112T180000
SEQUENCE:0
TRANSP:OPAQUE
END:VEVENT
END:VCALENDAR