BEGIN:VCALENDAR
VERSION:2.0
PRODID:-//jEvents 2.0 for Joomla//EN
CALSCALE:GREGORIAN
METHOD:PUBLISH
BEGIN:VEVENT
UID:bf00dacbbc39fa0d6fb071773d466b4d
CATEGORIES:Veranstaltungen
CREATED:20241104T143058
SUMMARY:5. Klassen besuchen "Uni goes Reutte" in der Wirtschaftskammer Reutte - KI-Künstliche Intelligenz, Lösung oder Problem?
DESCRIPTION:
DTSTAMP:20260425T171613
DTSTART:20241113T180000
DTEND:20241113T200000
SEQUENCE:0
TRANSP:OPAQUE
END:VEVENT
END:VCALENDAR