BEGIN:VCALENDAR
VERSION:2.0
PRODID:-//jEvents 2.0 for Joomla//EN
CALSCALE:GREGORIAN
METHOD:PUBLISH
BEGIN:VEVENT
UID:df2dc0f456f343c4959fac00ce583b0c
CATEGORIES:Veranstaltungen
CREATED:20241021T153132
SUMMARY:Planspiel Arbeit, Klasse 4.HTLb
DESCRIPTION:
DTSTAMP:20260425T152630
DTSTART:20250331T063000
DTEND:20250331T113000
SEQUENCE:0
TRANSP:OPAQUE
END:VEVENT
END:VCALENDAR