BEGIN:VCALENDAR
VERSION:2.0
PRODID:-//jEvents 2.0 for Joomla//EN
CALSCALE:GREGORIAN
METHOD:PUBLISH
BEGIN:VEVENT
UID:f29f3d544e65599f22ad920c9c3e00cf
CATEGORIES:Veranstaltungen
CREATED:20241021T153047
SUMMARY:Planspiel FIT, KLasse 4.HTLb
DESCRIPTION:
DTSTAMP:20260425T154409
DTSTART:20250303T103000
DTEND:20250303T121500
SEQUENCE:0
TRANSP:OPAQUE
END:VEVENT
END:VCALENDAR