BEGIN:VCALENDAR
VERSION:2.0
PRODID:-//jEvents 2.0 for Joomla//EN
CALSCALE:GREGORIAN
METHOD:PUBLISH
BEGIN:VEVENT
UID:42286f6c5f2bb893b9a3dc06b3bf9c72
CATEGORIES:Veranstaltungen
CREATED:20241021T153010
SUMMARY:Workshop "Schau auf`s Geld", Klasse 4.HTLb
DESCRIPTION:
DTSTAMP:20260425T120619
DTSTART:20250120T090000
DTEND:20250120T122000
SEQUENCE:0
TRANSP:OPAQUE
END:VEVENT
END:VCALENDAR