BEGIN:VCALENDAR
VERSION:2.0
PRODID:-//jEvents 2.0 for Joomla//EN
CALSCALE:GREGORIAN
METHOD:PUBLISH
BEGIN:VEVENT
UID:a92548f3174df8479427a51c0a1dfbf5
CATEGORIES:Veranstaltungen
CREATED:20241021T152923
SUMMARY:Planspiel Wirtschaft Englisch, Klasse 4.HTLb
DESCRIPTION:
DTSTAMP:20260425T154506
DTSTART:20241209T073000
DTEND:20241209T123000
SEQUENCE:0
TRANSP:OPAQUE
END:VEVENT
END:VCALENDAR