BEGIN:VCALENDAR
VERSION:2.0
PRODID:-//jEvents 2.0 for Joomla//EN
CALSCALE:GREGORIAN
METHOD:PUBLISH
BEGIN:VEVENT
UID:9e0f67a86b44538b4332cc39bbedb5dc
CATEGORIES:Veranstaltungen
CREATED:20241021T152818
SUMMARY:Planspiel Arbeit, Klasse 4.HTLa
DESCRIPTION:
DTSTAMP:20260425T140016
DTSTART:20250428T063000
DTEND:20250428T113000
SEQUENCE:0
TRANSP:OPAQUE
END:VEVENT
END:VCALENDAR