BEGIN:VCALENDAR
VERSION:2.0
PRODID:-//jEvents 2.0 for Joomla//EN
CALSCALE:GREGORIAN
METHOD:PUBLISH
BEGIN:VEVENT
UID:410b1b29648f29ecdfb96bb67d7eda83
CATEGORIES:Veranstaltungen
CREATED:20241021T152730
SUMMARY:Planspiel FIT, Klasse 4.HTLa
DESCRIPTION:
DTSTAMP:20260425T153853
DTSTART:20250310T103000
DTEND:20250310T121500
SEQUENCE:0
TRANSP:OPAQUE
END:VEVENT
END:VCALENDAR