BEGIN:VCALENDAR
VERSION:2.0
PRODID:-//jEvents 2.0 for Joomla//EN
CALSCALE:GREGORIAN
METHOD:PUBLISH
BEGIN:VEVENT
UID:868871aad902b6f316f3d6bcebcce754
CATEGORIES:Veranstaltungen
CREATED:20241021T152627
SUMMARY:Workshop "Schau auf`s Geld", Klasse 4.HTLa
DESCRIPTION:
DTSTAMP:20260425T153806
DTSTART:20250127T090000
DTEND:20250127T122000
SEQUENCE:0
TRANSP:OPAQUE
END:VEVENT
END:VCALENDAR