BEGIN:VCALENDAR
VERSION:2.0
PRODID:-//jEvents 2.0 for Joomla//EN
CALSCALE:GREGORIAN
METHOD:PUBLISH
BEGIN:VEVENT
UID:dfcba2424af708684a1fc34b9d6f9e08
CATEGORIES:Veranstaltungen
CREATED:20241021T152527
SUMMARY:Planspiel Wirtschaft Englisch, Klasse 4.HTLa
DESCRIPTION:
DTSTAMP:20260425T171319
DTSTART:20241111T073000
DTEND:20241111T123000
SEQUENCE:0
TRANSP:OPAQUE
END:VEVENT
END:VCALENDAR