BEGIN:VCALENDAR
VERSION:2.0
PRODID:-//jEvents 2.0 for Joomla//EN
CALSCALE:GREGORIAN
METHOD:PUBLISH
BEGIN:VEVENT
UID:a7799f03981657d2dbf69556090bf0d9
CATEGORIES:Veranstaltungen
CREATED:20241021T152442
SUMMARY:Workshop "Financial Training", Klassen 3wa und 3wb
DESCRIPTION:
DTSTAMP:20260425T140214
DTSTART:20250409T080000
DTEND:20250409T112000
SEQUENCE:0
TRANSP:OPAQUE
END:VEVENT
END:VCALENDAR