BEGIN:VCALENDAR
VERSION:2.0
PRODID:-//jEvents 2.0 for Joomla//EN
CALSCALE:GREGORIAN
METHOD:PUBLISH
BEGIN:VEVENT
UID:c1a1d4a402ed315d0569ad16d11cffb3
CATEGORIES:Veranstaltungen
CREATED:20241021T152337
SUMMARY:Workshop "Schau auf`s Geld", Klassen 3wa und 3wb
DESCRIPTION:
DTSTAMP:20260425T120958
DTSTART:20250107T090000
DTEND:20250107T122000
SEQUENCE:0
TRANSP:OPAQUE
END:VEVENT
END:VCALENDAR