BEGIN:VCALENDAR
VERSION:2.0
PRODID:-//jEvents 2.0 for Joomla//EN
CALSCALE:GREGORIAN
METHOD:PUBLISH
BEGIN:VEVENT
UID:efa34bd18bb83a83aff54670758ec1c5
CATEGORIES:Veranstaltungen
CREATED:20241021T152149
SUMMARY:Workshop "Schau auf`s Geld", Klasse 3a
DESCRIPTION:
DTSTAMP:20260425T171527
DTSTART:20250224T090000
DTEND:20250224T122000
SEQUENCE:0
TRANSP:OPAQUE
END:VEVENT
END:VCALENDAR