BEGIN:VCALENDAR
VERSION:2.0
PRODID:-//jEvents 2.0 for Joomla//EN
CALSCALE:GREGORIAN
METHOD:PUBLISH
BEGIN:VEVENT
UID:19a05f6089648a56dac03abaf6b29870
CATEGORIES:Veranstaltungen
CREATED:20241021T152058
SUMMARY:Planspiel Arbeit, Klasse 3a
DESCRIPTION:
DTSTAMP:20260425T171613
DTSTART:20241104T073000
DTEND:20241104T123000
SEQUENCE:0
TRANSP:OPAQUE
END:VEVENT
END:VCALENDAR