BEGIN:VCALENDAR
VERSION:2.0
PRODID:-//jEvents 2.0 for Joomla//EN
CALSCALE:GREGORIAN
METHOD:PUBLISH
BEGIN:VEVENT
UID:35cd372da27d184a0d2a05e268fea0e1
CATEGORIES:Veranstaltungen
CREATED:20241021T151953
SUMMARY:Workshop "Schau auf´s Geld", Klassen 1wa und 1wb
DESCRIPTION:
DTSTAMP:20260425T171245
DTSTART:20250611T080000
DTEND:20250611T112000
SEQUENCE:0
TRANSP:OPAQUE
END:VEVENT
END:VCALENDAR